BEGIN:VCALENDAR
VERSION:2.0
PRODID:-//hacksw/handcal//NONSGML v1.0//EN
BEGIN:VEVENT
SUMMARY:RANDOS INTER CLUB avec VEXIN RANDO et les 27000 PATTES a LISORS - 27440
UID:745e8507-e294-47fb-a1bd-27772193fd47
DTSTART:20260606T220000Z
DTEND:20260607T070000Z
LOCATION:Localisation rue de l'eglise 27440 LISORS
CATEGORIES:Sportif
STATUS:
DESCRIPTION:<p>                                   
   <strong>ECHANGE INTERCLUBS LE DIMANCHE 7 JUIN
 2026</strong></p>
 
 <p>VEXIN RANDO - ANDELLE RANDONNEES - 27 MILLE
 PATTES</p>
 
 <p>RENDEZ VOUS A <strong>9H </strong>PRES DE L'EGLISE DE
 LISORS POUR L'ACCUEIL</p>
 
 <p>DEPART A <strong>9H30 </strong>POUR LES
 <strong>10.7 KM</strong></p>
 
 <p>DEPART A <strong>14H</strong> POUR
 LES <strong>8.5 KM</strong></p>
 
 <p>RANDONNEE FAMILIALE<strong> 6.3
 KM</strong> - DEPART A <strong>9H45</strong></p>
 
 <p>PIQUE NIQUE TIRE
 DU SAC - CAFE OFFERT LE MATIN </p>
 
 <p>POT OFFERT LE MIDI ET EN FIN
 DE JOURNEE</p>
 
 <p>I<span style="color:#e74c3c;"><strong>NSCRIPTION
 AU PLUS TARD LE 31 MAI
 2026</strong></span></p>
 
 <p> </p>
 
 <p> </p>
 
 <p> </p>
URL;VALUE=URI:https://andellerandonnees.sportsregions.fr/evenements/2026/06/07/randos-inter-club-avec-vexin-rando-et-les-27000-pattes-a-lisors-27440-2354288
END:VEVENT
END:VCALENDAR
