BEGIN:VCALENDAR
VERSION:2.0
PRODID:-//hacksw/handcal//NONSGML v1.0//EN
BEGIN:VEVENT
SUMMARY:RANDO EN ATTENTE
UID:5df8f408-5be4-4bdd-951b-9910162d312e
DTSTART:20260901T113000Z
DTEND:20260901T220000Z
LOCATION:Localisation   
CATEGORIES:Sportif
STATUS:
DESCRIPTION:<p><strong><u>ANIMATEURS :</u> </strong>BRIGITTE
 0633493897 - JEROME 0622380302</p>
 
 <p>RDV <strong>13H30
 </strong>PARKING DE CHARLEVAL</p>
 
 <p><strong>OU</strong></p>
 
 <p>RDV
 EN ATTENTE</p>
URL;VALUE=URI:https://andellerandonnees.sportsregions.fr/evenements/2026/09/01/rando-en-attente-2441158
END:VEVENT
END:VCALENDAR
