BEGIN:VCALENDAR
VERSION:2.0
PRODID:-//hacksw/handcal//NONSGML v1.0//EN
BEGIN:VEVENT
SUMMARY:HAUVILLE - 27350
UID:f35abca4-5a48-435c-994d-5ab2ce25bdf9
DTSTART:20260906T063000Z
DTEND:20260906T220000Z
LOCATION:Localisation   
CATEGORIES:Sportif
STATUS:
DESCRIPTION:<p><u><strong>ANIMATRICES </strong></u>: DANIELE
 0683221997 - SYLVIANE 0674579537</p>
 
 <p>RDV XX PARKING DE
 CHARLEVAL</p>
 
 <p>OU</p>
 
 <p>RDV EN ATTENTE</p>
URL;VALUE=URI:https://andellerandonnees.sportsregions.fr/evenements/2026/09/06/hauville-27350-2441160
END:VEVENT
END:VCALENDAR
