BEGIN:VCALENDAR
VERSION:2.0
PRODID:-//hacksw/handcal//NONSGML v1.0//EN
BEGIN:VEVENT
SUMMARY:BEAUMONT LE ROGER - 27170
UID:40be6177-a18b-4928-96e9-be4f3138da3a
DTSTART:20260919T220000Z
DTEND:20260920T220000Z
LOCATION:Localisation   
CATEGORIES:Sportif
STATUS:
DESCRIPTION:<p><u>ANIMATEURS </u>: BEATRICE 0681543583 - BRIGITTE
 0633493897 - JEROME 0622380302</p>
 
 <p>RDV XX PARKING DE
 CHARLEVAL</p>
 
 <p>OU</p>
 
 <p>RDV EN ATTENTE</p>
URL;VALUE=URI:https://andellerandonnees.sportsregions.fr/evenements/2026/09/20/beaumont-le-roger-27170-2441164
END:VEVENT
END:VCALENDAR
