BEGIN:VCALENDAR
VERSION:2.0
PRODID:-//hacksw/handcal//NONSGML v1.0//EN
BEGIN:VEVENT
SUMMARY:FOIRE A TOUT CHARLEVAL
UID:c9e6cf01-a3a0-4e3c-bdd3-a2a6df17c7f3
DTSTART:20260927T053000Z
DTEND:20260927T220000Z
LOCATION:Localisation   
CATEGORIES:Manifestation
STATUS:
DESCRIPTION:<p>FOIRE A TOUT ORGANISEE PAR LE COMITE DES FETES DE
 CHARLEVAL</p>
 
 <p> </p>
 
 <p>COMME CHAQUE ANNEE LE CLUB A RESERVE UN
 EMPLACEMENT DEVANT L'ASSUREUR MMA.</p>
 
 <p>LES BENEFICES DE LA VENTE
 DES ARTICLES DONNES PAR LES ADHERENTS SUR LE STAND ANDELLE RANDONNEES
 SERONT REVERSES A L'ASSOCIATION.</p>
 
 <p>MERCI D'APPORTER DES
 ARTICLES "VENDABLES" AU PLUS TARD LE SAMEDI 26 SEPTEMBRE AU DOMICILE
 DE PHILIPPE PETIT.</p>
 
 <p>TOUTE AIDE SUR LE STAND EST LE BIENVENU A
 PARTIR DE 7H30 - LA FIN DE JOURNEE POUR REMBALLAGE SE SITUE AUTOUR DE
 17H.</p>
 
 <p> </p>
 
 <p>ON VOUS ATTEND NOMBREUX !</p>
URL;VALUE=URI:https://andellerandonnees.sportsregions.fr/evenements/2026/09/27/foire-a-tout-charleval-2441165
END:VEVENT
END:VCALENDAR
