BEGIN:VCALENDAR
VERSION:2.0
PRODID:-//hacksw/handcal//NONSGML v1.0//EN
BEGIN:VEVENT
SUMMARY:BAILLEUL NEUVILLE - 76660
UID:3003cbe7-dcbe-4066-a324-a5a12a8ebcb9
DTSTART:20261018T063000Z
DTEND:20261018T220000Z
LOCATION:Localisation   
CATEGORIES:Sportif
STATUS:
DESCRIPTION:<p><u><strong>ANIMATEURS</strong></u> : JEAN PIERRE
 0677585533 - NICOLE 0682636363</p>
 
 <p>RDV XX PARKING DE
 CHARLEVAL</p>
 
 <p><strong>OU</strong></p>
 
 <p>RDV EN
 ATTENTE</p>
 
 <p> </p>
 
 <p> </p>
URL;VALUE=URI:https://andellerandonnees.sportsregions.fr/evenements/2026/10/18/bailleul-neuville-76660-2441533
END:VEVENT
END:VCALENDAR
