BEGIN:VCALENDAR
VERSION:2.0
PRODID:-//hacksw/handcal//NONSGML v1.0//EN
BEGIN:VEVENT
SUMMARY:ST CRESPIN - 27480
UID:3992c0dc-eff4-4628-adee-6291567e5896
DTSTART:20261027T123000Z
DTEND:20261027T230000Z
LOCATION:Localisation   
CATEGORIES:Sportif
STATUS:
DESCRIPTION:<p><u><strong>ANIMATEURS </strong></u>: CORINNE
 0613601912 - JEROME 0622380302</p>
 
 <p>RDV XX PARKING DE
 CHARLEVAL</p>
 
 <p>OU</p>
 
 <p>RDV EN ATTENTE</p>
URL;VALUE=URI:https://andellerandonnees.sportsregions.fr/evenements/2026/10/27/st-crespin-27480-2441534
END:VEVENT
END:VCALENDAR
