BEGIN:VCALENDAR
VERSION:2.0
PRODID:-//hacksw/handcal//NONSGML v1.0//EN
BEGIN:VEVENT
SUMMARY:BAILLEUL LA VALLEE - 27260
UID:9c525acd-2274-44d7-ba98-c54b5c155775
DTSTART:20261101T073000Z
DTEND:20261101T230000Z
LOCATION:Localisation   
CATEGORIES:Sportif
STATUS:
DESCRIPTION:<p><strong>ANIMATEURS :</strong> FRANCOISE 0611484846 -
 JEAN MARC 0611698234</p>
 
 <p>RDV XX PARKING DE
 CHARLEVAL</p>
 
 <p><strong>OU</strong></p>
 
 <p>RDV EN ATTENTE</p>
URL;VALUE=URI:https://andellerandonnees.sportsregions.fr/evenements/2026/11/01/bailleul-la-vallee-27260-2441536
END:VEVENT
END:VCALENDAR
